BEGIN:VCALENDAR
VERSION:2.0
PRODID:-//wp-events-plugin.com//6.5.2//EN
BEGIN:VEVENT
UID:2@earthfolkcommunity.com
DTSTART:20241002T000000Z
DTEND:20241006T000000Z
DTSTAMP:20240629T162532Z
URL:https://earthfolkcommunity.com/events/earthfolk-drum-and-dance-clinic-
 2024/
SUMMARY:Earthfolk Drum and Dance Clinic 2024
DESCRIPTION:[et_pb_section fb_built="1" custom_padding_last_edited="off|des
 ktop" admin_label="About" _builder_version="4.11.2" _module_preset="defaul
 t" background_color="#f6efe7" background_enable_color="off" background_ima
 ge="https://earthfolkcommunity.com/wp-content/uploads/2023/02/firecircle8-
 scaled.jpg" overflow-x="hidden" overflow-y="hidden" custom_padding_tablet=
 "150px||150px||true|false" custom_padding_phone="80px||80px||true|false" g
 lobal_colors_info="{}"][et_pb_row column_structure="1_2\,1_2" _builder_ver
 sion="4.11.3" _module_preset="default" global_colors_info="{}"][et_pb_colu
 mn type="1_2" _builder_version="4.11.3" _module_preset="default" z_index="
 10" global_colors_info="{}"][et_pb_text _builder_version="4.11.3" _module_
 preset="d72c0383-6487-4f2c-ac5c-7d48a6376757" header_font="Trirong||||||||
 " header_text_color="#FFFFFF" header_font_size="100px" header_line_height=
 "1.1em" custom_margin="|-171px||||" header_font_size_tablet="60px" header_
 font_size_phone="26px" header_font_size_last_edited="on|phone" locked="off
 " global_colors_info="{}"]Earthfolk Drum and Dance Clinic 2024[/et_pb_text
 ][et_pb_text _builder_version="4.11.2" _module_preset="aec0be99-8a53-4f75-
 abf2-64f29a8b4cc2" text_font="Inknut Antiqua||||||||" text_text_color="#BC
 A274" text_font_size="28px" text_letter_spacing="-0.04em" text_line_height
 ="1.8em" background_color="rgba(2\,2\,2\,0.76)" custom_margin="|100px||0px
 |false|false" custom_margin_tablet="" custom_margin_phone="" custom_margin
 _last_edited="on|phone" custom_padding="|||0px|false|false" text_font_size
 _tablet="16px" text_font_size_phone="14px" text_font_size_last_edited="on|
 phone" text_text_shadow_style="preset2" border_radii="off|25px|25px|25px|2
 5px" locked="off" global_colors_info="{}"]Four days of rhythm\, drumming\,
  dancing and community![/et_pb_text][/et_pb_column][et_pb_column type="1_2
 " _builder_version="4.10.6" _module_preset="default" global_colors_info="{
 }"][/et_pb_column][/et_pb_row][/et_pb_section][et_pb_section fb_built="1" 
 admin_label="Footer" _builder_version="4.11.2" _module_preset="default" ba
 ckground_color="#f6efe7" custom_padding="10px||9px|||" saved_tabs="all" lo
 cked="off" global_colors_info="{}"][et_pb_row _builder_version="4.10.6" _m
 odule_preset="default" width="100%" max_width="none" locked="off" global_c
 olors_info="{}"][et_pb_column type="4_4" _builder_version="4.10.6" _module
 _preset="default" global_colors_info="{}"][et_pb_divider color="RGBA(0\,0\
 ,0\,0)" divider_weight="40px" _builder_version="4.11.1" _module_preset="de
 fault" background_image="https://earthfolkcommunity.com/wp-content/uploads
 /2023/02/museum-11.png" background_size="contain" background_repeat="repea
 t-x" min_height="40px" border_color_all="#000000" border_width_top="2px" b
 order_width_bottom="2px" locked="off" global_colors_info="{}"][/et_pb_divi
 der][/et_pb_column][/et_pb_row][et_pb_row _builder_version="4.10.6" _modul
 e_preset="default" width="100%" max_width="none" locked="off" global_color
 s_info="{}"][et_pb_column type="4_4" _builder_version="4.10.6" _module_pre
 set="default" global_colors_info="{}"][et_pb_text _builder_version="4.11.2
 " _module_preset="c6d6f7af-6ac8-4ba6-9488-2a218606aaa8" header_2_font="Tri
 rong|500|||||||" header_2_text_color="#000000" header_2_font_size="100px" 
 header_2_line_height="1.2em" background_enable_image="off" background_size
 ="contain" text_orientation="center" custom_padding="||0px||false|false" h
 eader_2_font_size_tablet="65px" header_2_font_size_phone="28px" header_2_f
 ont_size_last_edited="on|phone" locked="off" global_colors_info="{}"]Regis
 tration[/et_pb_text][/et_pb_column][/et_pb_row][/et_pb_section]
ATTACH;FMTTYPE=image/jpeg:https://earthfolkcommunity.com/wp-content/upload
 s/2024/04/EarthfolkPresents-2024-flyer.jpg
LOCATION:The Farm Community in Summertown Tennessee\, 100 Farm Rd\, Summert
 own\, TN \, 38483\, United States
X-APPLE-STRUCTURED-LOCATION;VALUE=URI;X-ADDRESS=100 Farm Rd\, Summertown\, 
 TN \, 38483\, United States;X-APPLE-RADIUS=100;X-TITLE=The Farm Community 
 in Summertown Tennessee:geo:0,0
END:VEVENT
END:VCALENDAR